BEGIN:VCALENDAR
VERSION:2.0
PRODID:icalendar-ruby
CALSCALE:GREGORIAN
METHOD:PUBLISH
BEGIN:VEVENT
DTSTAMP:20260420T075229Z
UID:23-285@mmbcrva.org
DTSTART:20260513T230000Z
DTEND:20260514T003000Z
CLASS:PUBLIC
CREATED:20260409T164747
DESCRIPTION:Come ready to hear the Word\, study the Word\, and live the Wor
 d —together.\nRooted and Rising: Living the Vision Through Word\, Witnes
 s\, and Work.\nZoom Meeting ID: 854 8862 2296\nCall in Phone Line: (929) 2
 05-6099\nClick To Join
LAST-MODIFIED:20260409T164747
LOCATION:Online Via Zoom 
SUMMARY:Wednesday Night Bible Study
URL;VALUE=URI:https://mmbcrva.org/events/wednesday-night-bible-study/2026-0
 5-13
ATTACH;FILENAME=RootedAndRisingBanner.png;FMTTYPE=image/png:https://dq5pwpg
 1q8ru0.cloudfront.net/2026/04/09/20/46/04/a96b6525-ee4a-41bb-b3ba-961d5d0c
 06e9/RootedAndRisingBanner.png
END:VEVENT
END:VCALENDAR
