BEGIN:VCALENDAR
VERSION:2.0
PRODID:icalendar-ruby
CALSCALE:GREGORIAN
METHOD:PUBLISH
BEGIN:VEVENT
DTSTAMP:20260420T051639Z
UID:26-463@mmbcrva.org
DTSTART:20260429T150000Z
DTEND:20260429T160000Z
CLASS:PUBLIC
CREATED:20260409T171833
DESCRIPTION:Phone Number: 305-224-1968\nID# 835-1996-0879\nPasscode: 2901\n
  
LAST-MODIFIED:20260409T171833
LOCATION:Hybrid: MMBC Fellowship Hall & Call In Number Below
SUMMARY:Wednesday Midday Prayer
URL;VALUE=URI:https://mmbcrva.org/events/wednesday-midday-prayer/2026-04-29
ATTACH;FILENAME=CorporatePrayer.png;FMTTYPE=image/png:https://dq5pwpg1q8ru0
 .cloudfront.net/2026/04/09/21/18/32/4efc6fa3-feb2-4c46-9e16-cdbdf72d7a5b/C
 orporatePrayer.png
END:VEVENT
END:VCALENDAR
